BEGIN:VCALENDAR
METHOD:PUBLISH
VERSION:2.0
PRODID:-//hacksw/handcal//NONSGML v1.0//EN
BEGIN:VEVENT
DTSTAMP:20260430T154500
DTSTART:20260430T154500
DTEND:20260430T160000
SUMMARY:Inspection
LOCATION:17 Payten Street Kogarah Bay NSW 2217
DESCRIPTION:
UID:b69f69f7-cc93-45de-a8b7-7638d8f3e827@enlivenai.com.au
END:VEVENT
END:VCALENDAR
