BEGIN:VCALENDAR
METHOD:PUBLISH
VERSION:2.0
PRODID:-//hacksw/handcal//NONSGML v1.0//EN
BEGIN:VEVENT
DTSTAMP:20260422T105000
DTSTART:20260422T105000
DTEND:20260422T110500
SUMMARY:Inspection
LOCATION:406/70 Queens Road Melbourne VIC 3004
DESCRIPTION:
UID:98456975-b33e-4fc7-a4ba-d40c7f07f6ec@enlivenai.com.au
END:VEVENT
END:VCALENDAR
