BEGIN:VCALENDAR
METHOD:PUBLISH
VERSION:2.0
PRODID:-//hacksw/handcal//NONSGML v1.0//EN
BEGIN:VEVENT
DTSTAMP:20260427T163000
DTSTART:20260427T163000
DTEND:20260427T164500
SUMMARY:Inspection
LOCATION:10/270 Ocean  Drive Twin Waters QLD 4564
DESCRIPTION:
UID:4ee70fe9-87bf-47b1-a713-3d75d9465683@enlivenai.com.au
END:VEVENT
END:VCALENDAR
