BEGIN:VCALENDAR
METHOD:PUBLISH
VERSION:2.0
PRODID:-//hacksw/handcal//NONSGML v1.0//EN
BEGIN:VEVENT
DTSTAMP:20260520T183000
DTSTART:20260520T183000
DTEND:20260520T183000
SUMMARY:Auction
LOCATION:16/10-16 Beatrice Street Ashfield NSW 2131
DESCRIPTION:
UID:ee89ba48-f80c-4911-ad1f-8682ee8e8444@enlivenai.com.au
END:VEVENT
END:VCALENDAR
