BEGIN:VCALENDAR
METHOD:PUBLISH
VERSION:2.0
PRODID:-//hacksw/handcal//NONSGML v1.0//EN
BEGIN:VEVENT
DTSTAMP:20260520T180000
DTSTART:20260520T180000
DTEND:20260520T180000
SUMMARY:Auction
LOCATION:25 Park Road St Leonards NSW 2065
DESCRIPTION:
UID:a8241cdb-2744-43ac-ad5c-9a9787c21220@enlivenai.com.au
END:VEVENT
END:VCALENDAR
