BEGIN:VCALENDAR
METHOD:PUBLISH
VERSION:2.0
PRODID:-//hacksw/handcal//NONSGML v1.0//EN
BEGIN:VEVENT
DTSTAMP:20260521T180000
DTSTART:20260521T180000
DTEND:20260521T180000
SUMMARY:Auction
LOCATION:5 Edna Place Dee Why NSW 2099
DESCRIPTION:
UID:06b2e12e-9012-4381-84da-df0cb1fc7bb6@enlivenai.com.au
END:VEVENT
END:VCALENDAR
