BEGIN:VCALENDAR
METHOD:PUBLISH
VERSION:2.0
PRODID:-//hacksw/handcal//NONSGML v1.0//EN
BEGIN:VEVENT
DTSTAMP:20260325T180000
DTSTART:20260325T180000
DTEND:20260325T180000
SUMMARY:Auction
LOCATION:214/255 Morrison Road Ryde NSW 2112
DESCRIPTION:
UID:053a3582-245c-45a8-96e4-189e4c5c90d4@enlivenai.com.au
END:VEVENT
END:VCALENDAR
