BEGIN:VCALENDAR
METHOD:PUBLISH
VERSION:2.0
PRODID:-//hacksw/handcal//NONSGML v1.0//EN
BEGIN:VEVENT
DTSTAMP:20260523T090000
DTSTART:20260523T090000
DTEND:20260523T090000
SUMMARY:Auction
LOCATION:10/13-15 Langlee Avenue  Avenue Waverley NSW 2024
DESCRIPTION:
UID:630af910-5151-4014-9849-090a6b0fba37@enlivenai.com.au
END:VEVENT
END:VCALENDAR
