BEGIN:VCALENDAR
METHOD:PUBLISH
VERSION:2.0
PRODID:-//hacksw/handcal//NONSGML v1.0//EN
BEGIN:VEVENT
DTSTAMP:20260516T160000
DTSTART:20260516T160000
DTEND:20260516T160000
SUMMARY:Auction
LOCATION:2/102 Elliott Street Balmain NSW 2041
DESCRIPTION:
UID:622fb1c1-74bf-4136-9681-dd37d1e9b623@enlivenai.com.au
END:VEVENT
END:VCALENDAR
