BEGIN:VCALENDAR
METHOD:PUBLISH
VERSION:2.0
PRODID:-//hacksw/handcal//NONSGML v1.0//EN
BEGIN:VEVENT
DTSTAMP:20260513T180000
DTSTART:20260513T180000
DTEND:20260513T180000
SUMMARY:Auction
LOCATION:28 Omaha Street Belfield NSW 2191
DESCRIPTION:
UID:e52f9949-cd4f-48db-806e-dcc84d5b6e1a@enlivenai.com.au
END:VEVENT
END:VCALENDAR
