BEGIN:VCALENDAR
METHOD:PUBLISH
VERSION:2.0
PRODID:-//hacksw/handcal//NONSGML v1.0//EN
BEGIN:VEVENT
DTSTAMP:20260516T110000
DTSTART:20260516T110000
DTEND:20260516T110000
SUMMARY:Auction
LOCATION:18/202 The Avenue Parkville VIC 3052
DESCRIPTION:
UID:a8a36975-44c9-4dcc-9f33-05c4325b3682@enlivenai.com.au
END:VEVENT
END:VCALENDAR
