BEGIN:VCALENDAR
METHOD:PUBLISH
VERSION:2.0
PRODID:-//hacksw/handcal//NONSGML v1.0//EN
BEGIN:VEVENT
DTSTAMP:20260516T090000
DTSTART:20260516T090000
DTEND:20260516T090000
SUMMARY:Auction
LOCATION:41 Ridge Street Greenslopes QLD 4120
DESCRIPTION:
UID:bd6c7907-c407-46e2-8548-9f34d68a94f1@enlivenai.com.au
END:VEVENT
END:VCALENDAR
