BEGIN:VCALENDAR
METHOD:PUBLISH
VERSION:2.0
PRODID:-//hacksw/handcal//NONSGML v1.0//EN
BEGIN:VEVENT
DTSTAMP:20260530T093000
DTSTART:20260530T093000
DTEND:20260530T093000
SUMMARY:Auction
LOCATION:42 O'Connor Street Haberfield NSW 2045
DESCRIPTION:
UID:1d1df692-7d57-4aab-9bed-f355bf00f474@enlivenai.com.au
END:VEVENT
END:VCALENDAR
