BEGIN:VCALENDAR
METHOD:PUBLISH
VERSION:2.0
PRODID:-//hacksw/handcal//NONSGML v1.0//EN
BEGIN:VEVENT
DTSTAMP:20260528T180000
DTSTART:20260528T180000
DTEND:20260528T180000
SUMMARY:Auction
LOCATION:7/678 Barrenjoey Road Avalon Beach NSW 2107
DESCRIPTION:
UID:c34c8572-52f2-42bc-b3fe-d929ff031f05@enlivenai.com.au
END:VEVENT
END:VCALENDAR
