BEGIN:VCALENDAR
METHOD:PUBLISH
VERSION:2.0
PRODID:-//hacksw/handcal//NONSGML v1.0//EN
BEGIN:VEVENT
DTSTAMP:20260506T180000
DTSTART:20260506T180000
DTEND:20260506T180000
SUMMARY:Auction
LOCATION:5 Flaumont Avenue Riverview NSW 2066
DESCRIPTION:
UID:b89419e5-c66e-44a4-bd07-e8e4e8d49834@enlivenai.com.au
END:VEVENT
END:VCALENDAR
