BEGIN:VCALENDAR
METHOD:PUBLISH
VERSION:2.0
PRODID:-//hacksw/handcal//NONSGML v1.0//EN
BEGIN:VEVENT
DTSTAMP:20260502T131500
DTSTART:20260502T131500
DTEND:20260502T131500
SUMMARY:Auction
LOCATION:45 William Street Paddington NSW 2021
DESCRIPTION:
UID:9759bd26-593f-45d6-b560-6569da5c750b@enlivenai.com.au
END:VEVENT
END:VCALENDAR
