BEGIN:VCALENDAR
METHOD:PUBLISH
VERSION:2.0
PRODID:-//hacksw/handcal//NONSGML v1.0//EN
BEGIN:VEVENT
DTSTAMP:20260523T140000
DTSTART:20260523T140000
DTEND:20260523T140000
SUMMARY:Auction
LOCATION:28 Ninth  Avenue Rosebud VIC 3939
DESCRIPTION:
UID:afe8ae5f-72bb-43f7-863e-569a170a68fe@enlivenai.com.au
END:VEVENT
END:VCALENDAR
