BEGIN:VCALENDAR
METHOD:PUBLISH
VERSION:2.0
PRODID:-//hacksw/handcal//NONSGML v1.0//EN
BEGIN:VEVENT
DTSTAMP:20260429T150000
DTSTART:20260429T150000
DTEND:20260429T150000
SUMMARY:Auction
LOCATION:1 Brecks Way Pennant Hills NSW 2120
DESCRIPTION:
UID:f96197a2-a7c9-4966-838d-8b56e34f24d4@enlivenai.com.au
END:VEVENT
END:VCALENDAR
