BEGIN:VCALENDAR
METHOD:PUBLISH
VERSION:2.0
PRODID:-//hacksw/handcal//NONSGML v1.0//EN
BEGIN:VEVENT
DTSTAMP:20260425T143000
DTSTART:20260425T143000
DTEND:20260425T143000
SUMMARY:Auction
LOCATION:9 Coppins Terrace Fulham Gardens SA 5024
DESCRIPTION:
UID:d82b25f0-c914-4347-a5f9-62dac16926d7@enlivenai.com.au
END:VEVENT
END:VCALENDAR
