BEGIN:VCALENDAR
METHOD:PUBLISH
VERSION:2.0
PRODID:-//hacksw/handcal//NONSGML v1.0//EN
BEGIN:VEVENT
DTSTAMP:20260423T180000
DTSTART:20260423T180000
DTEND:20260423T180000
SUMMARY:Auction
LOCATION:21/1-11 Donald Street Carlingford NSW 2118
DESCRIPTION:
UID:a3eebd13-4a62-488c-9368-4bae8077f0ab@enlivenai.com.au
END:VEVENT
END:VCALENDAR
