BEGIN:VCALENDAR
METHOD:PUBLISH
VERSION:2.0
PRODID:-//hacksw/handcal//NONSGML v1.0//EN
BEGIN:VEVENT
DTSTAMP:20260502T103000
DTSTART:20260502T103000
DTEND:20260502T103000
SUMMARY:Auction
LOCATION:2A Rosella Road Parkdale VIC 3195
DESCRIPTION:
UID:17fc44a1-6c61-48d6-a928-15ffe0ac0901@enlivenai.com.au
END:VEVENT
END:VCALENDAR
