BEGIN:VCALENDAR
METHOD:PUBLISH
VERSION:2.0
PRODID:-//hacksw/handcal//NONSGML v1.0//EN
BEGIN:VEVENT
DTSTAMP:20260523T100000
DTSTART:20260523T100000
DTEND:20260523T100000
SUMMARY:Auction
LOCATION:12 North Arm Road Middle Cove NSW 2068
DESCRIPTION:
UID:6b434f1a-bb65-4545-82af-0c7887c24cf2@enlivenai.com.au
END:VEVENT
END:VCALENDAR
