BEGIN:VCALENDAR
METHOD:PUBLISH
VERSION:2.0
PRODID:-//hacksw/handcal//NONSGML v1.0//EN
BEGIN:VEVENT
DTSTAMP:20260502T150000
DTSTART:20260502T150000
DTEND:20260502T150000
SUMMARY:Auction
LOCATION:8 Ridgewood Road Algester QLD 4115
DESCRIPTION:
UID:09466389-fcf8-4232-bada-48aa9db8460f@enlivenai.com.au
END:VEVENT
END:VCALENDAR
