BEGIN:VCALENDAR
METHOD:PUBLISH
VERSION:2.0
PRODID:-//hacksw/handcal//NONSGML v1.0//EN
BEGIN:VEVENT
DTSTAMP:20260523T094500
DTSTART:20260523T094500
DTEND:20260523T094500
SUMMARY:Auction
LOCATION:11 Garling Street Lane Cove NSW 2066
DESCRIPTION:
UID:761825cf-7571-4ea4-968e-4f84a457a012@enlivenai.com.au
END:VEVENT
END:VCALENDAR
