BEGIN:VCALENDAR
METHOD:PUBLISH
VERSION:2.0
PRODID:-//hacksw/handcal//NONSGML v1.0//EN
BEGIN:VEVENT
DTSTAMP:20260516T141500
DTSTART:20260516T141500
DTEND:20260516T141500
SUMMARY:Auction
LOCATION:43 Iron Street North Parramatta NSW 2151
DESCRIPTION:
UID:2708b905-4049-4201-b198-1a72cd4c9195@enlivenai.com.au
END:VEVENT
END:VCALENDAR
