BEGIN:VCALENDAR
METHOD:PUBLISH
VERSION:2.0
PRODID:-//hacksw/handcal//NONSGML v1.0//EN
BEGIN:VEVENT
DTSTAMP:20260520T160000
DTSTART:20260520T160000
DTEND:20260520T160000
SUMMARY:Auction
LOCATION:147 Halcrows  Road Glenorie NSW 2157
DESCRIPTION:
UID:c54c3479-9ecd-441a-a9ea-f7a11c678318@enlivenai.com.au
END:VEVENT
END:VCALENDAR
