BEGIN:VCALENDAR
METHOD:PUBLISH
VERSION:2.0
PRODID:-//hacksw/handcal//NONSGML v1.0//EN
BEGIN:VEVENT
DTSTAMP:20260507T120000
DTSTART:20260507T120000
DTEND:20260507T120000
SUMMARY:Auction
LOCATION:70 Heath Road Hardys Bay NSW 2257
DESCRIPTION:
UID:c7eb175f-c33c-4331-9641-137930c18a5e@enlivenai.com.au
END:VEVENT
END:VCALENDAR
