BEGIN:VCALENDAR
METHOD:PUBLISH
VERSION:2.0
PRODID:-//hacksw/handcal//NONSGML v1.0//EN
BEGIN:VEVENT
DTSTAMP:20260509T153000
DTSTART:20260509T153000
DTEND:20260509T153000
SUMMARY:Auction
LOCATION:58 Mansfield Street Rozelle NSW 2039
DESCRIPTION:
UID:6217822c-04cf-429f-b874-e1445812d45f@enlivenai.com.au
END:VEVENT
END:VCALENDAR
