BEGIN:VCALENDAR
METHOD:PUBLISH
VERSION:2.0
PRODID:-//hacksw/handcal//NONSGML v1.0//EN
BEGIN:VEVENT
DTSTAMP:20260516T103000
DTSTART:20260516T103000
DTEND:20260516T103000
SUMMARY:Auction
LOCATION:82 Lewisham Road North Prahran VIC 3181
DESCRIPTION:
UID:41c04b9c-0d77-44dd-b07f-f65bdcd5ddc8@enlivenai.com.au
END:VEVENT
END:VCALENDAR
