BEGIN:VCALENDAR
METHOD:PUBLISH
VERSION:2.0
PRODID:-//hacksw/handcal//NONSGML v1.0//EN
BEGIN:VEVENT
DTSTAMP:20260523T130000
DTSTART:20260523T130000
DTEND:20260523T130000
SUMMARY:Auction
LOCATION:22 Robinson Street Croydon NSW 2132
DESCRIPTION:
UID:ed9e43d5-6e1d-4f1d-a8ae-84d69474e978@enlivenai.com.au
END:VEVENT
END:VCALENDAR
