BEGIN:VCALENDAR
METHOD:PUBLISH
VERSION:2.0
PRODID:-//hacksw/handcal//NONSGML v1.0//EN
BEGIN:VEVENT
DTSTAMP:20260502T153000
DTSTART:20260502T153000
DTEND:20260502T153000
SUMMARY:Auction
LOCATION:4 High Street Strathfield NSW 2135
DESCRIPTION:
UID:1cfdc7e2-76b9-47a1-8a67-7e85e05a3fb5@enlivenai.com.au
END:VEVENT
END:VCALENDAR
