BEGIN:VCALENDAR
METHOD:PUBLISH
VERSION:2.0
PRODID:-//hacksw/handcal//NONSGML v1.0//EN
BEGIN:VEVENT
DTSTAMP:20260509T144500
DTSTART:20260509T144500
DTEND:20260509T144500
SUMMARY:Auction
LOCATION:3 Small Crescent Smithfield Plains SA 5114
DESCRIPTION:
UID:fd0f9d0b-a412-45cd-b487-8b87640f666c@enlivenai.com.au
END:VEVENT
END:VCALENDAR
