BEGIN:VCALENDAR
METHOD:PUBLISH
VERSION:2.0
PRODID:-//hacksw/handcal//NONSGML v1.0//EN
BEGIN:VEVENT
DTSTAMP:20260516T120000
DTSTART:20260516T120000
DTEND:20260516T120000
SUMMARY:Auction
LOCATION:11 Mulguthrie Court Hallam VIC 3803
DESCRIPTION:
UID:d6f1f960-849f-4e88-9440-308d0a8905ba@enlivenai.com.au
END:VEVENT
END:VCALENDAR
