BEGIN:VCALENDAR
METHOD:PUBLISH
VERSION:2.0
PRODID:-//hacksw/handcal//NONSGML v1.0//EN
BEGIN:VEVENT
DTSTAMP:20260516T143000
DTSTART:20260516T143000
DTEND:20260516T143000
SUMMARY:Auction
LOCATION:73 Laura Street Aspendale VIC 3195
DESCRIPTION:
UID:2bb38803-3091-46d1-af64-eb14baa37f06@enlivenai.com.au
END:VEVENT
END:VCALENDAR
