BEGIN:VCALENDAR
METHOD:PUBLISH
VERSION:2.0
PRODID:-//hacksw/handcal//NONSGML v1.0//EN
BEGIN:VEVENT
DTSTAMP:20260711T113000
DTSTART:20260711T113000
DTEND:20260711T113000
SUMMARY:Auction
LOCATION:4/321 Dandenong Road Prahran VIC 3181
DESCRIPTION:
UID:b5ebc49e-6399-4c0f-a417-459ae812e6fa@enlivenai.com.au
END:VEVENT
END:VCALENDAR
