BEGIN:VCALENDAR
METHOD:PUBLISH
VERSION:2.0
PRODID:-//hacksw/handcal//NONSGML v1.0//EN
BEGIN:VEVENT
DTSTAMP:20260523T093000
DTSTART:20260523T093000
DTEND:20260523T093000
SUMMARY:Auction
LOCATION:31 Charlotte Avenue Bongaree QLD 4507
DESCRIPTION:
UID:e62af262-7513-46da-9f89-80f4e511e8ac@enlivenai.com.au
END:VEVENT
END:VCALENDAR
