BEGIN:VCALENDAR
METHOD:PUBLISH
VERSION:2.0
PRODID:-//hacksw/handcal//NONSGML v1.0//EN
BEGIN:VEVENT
DTSTAMP:20260516T114500
DTSTART:20260516T114500
DTEND:20260516T114500
SUMMARY:Auction
LOCATION:501/3 Kings Cross Road Darlinghurst NSW 2010
DESCRIPTION:
UID:fd271a72-bf8a-4667-9eae-7e0177d88114@enlivenai.com.au
END:VEVENT
END:VCALENDAR
