BEGIN:VCALENDAR
METHOD:PUBLISH
VERSION:2.0
PRODID:-//hacksw/handcal//NONSGML v1.0//EN
BEGIN:VEVENT
DTSTAMP:20260516T163000
DTSTART:20260516T163000
DTEND:20260516T163000
SUMMARY:Auction
LOCATION:43 Banks Road Earlwood NSW 2206
DESCRIPTION:
UID:2480763f-800f-4082-9648-6de6016b19aa@enlivenai.com.au
END:VEVENT
END:VCALENDAR
