BEGIN:VCALENDAR
METHOD:PUBLISH
VERSION:2.0
PRODID:-//hacksw/handcal//NONSGML v1.0//EN
BEGIN:VEVENT
DTSTAMP:20260606T110000
DTSTART:20260606T110000
DTEND:20260606T110000
SUMMARY:Auction
LOCATION:43 Hope Street Rosebud VIC 3939
DESCRIPTION:
UID:198c49aa-aa32-49b0-8a66-f6bc11510477@enlivenai.com.au
END:VEVENT
END:VCALENDAR
