BEGIN:VCALENDAR
METHOD:PUBLISH
VERSION:2.0
PRODID:-//hacksw/handcal//NONSGML v1.0//EN
BEGIN:VEVENT
DTSTAMP:20260502T110000
DTSTART:20260502T110000
DTEND:20260502T110000
SUMMARY:Auction
LOCATION:6 Cropley Terrace Mernda VIC 3754
DESCRIPTION:
UID:f7667c7d-e272-49c1-93cf-6bbab00d2647@enlivenai.com.au
END:VEVENT
END:VCALENDAR
