BEGIN:VCALENDAR
METHOD:PUBLISH
VERSION:2.0
PRODID:-//hacksw/handcal//NONSGML v1.0//EN
BEGIN:VEVENT
DTSTAMP:20260424T110000
DTSTART:20260424T110000
DTEND:20260424T110000
SUMMARY:Auction
LOCATION:3632 Wide Bay  Highway Kilkivan QLD 4600
DESCRIPTION:
UID:c5030d14-1ecf-482c-9eed-cc685c079944@enlivenai.com.au
END:VEVENT
END:VCALENDAR
