BEGIN:VCALENDAR
METHOD:PUBLISH
VERSION:2.0
PRODID:-//hacksw/handcal//NONSGML v1.0//EN
BEGIN:VEVENT
DTSTAMP:20260515T120000
DTSTART:20260515T120000
DTEND:20260515T120000
SUMMARY:Auction
LOCATION:123/40 Cotlew Street East Southport QLD 4215
DESCRIPTION:
UID:7bd85192-a82b-4c81-b558-07a00fad3885@enlivenai.com.au
END:VEVENT
END:VCALENDAR
