BEGIN:VCALENDAR
METHOD:PUBLISH
VERSION:2.0
PRODID:-//hacksw/handcal//NONSGML v1.0//EN
BEGIN:VEVENT
DTSTAMP:20260513T173000
DTSTART:20260513T173000
DTEND:20260513T173000
SUMMARY:Auction
LOCATION:8 Harris Street Hackett ACT 2602
DESCRIPTION:
UID:0a075d99-d995-45f0-b70c-b5a339c90de9@enlivenai.com.au
END:VEVENT
END:VCALENDAR
