BEGIN:VCALENDAR
METHOD:PUBLISH
VERSION:2.0
PRODID:-//hacksw/handcal//NONSGML v1.0//EN
BEGIN:VEVENT
DTSTAMP:20260507T180000
DTSTART:20260507T180000
DTEND:20260507T180000
SUMMARY:Auction
LOCATION:6/7-9 Clyde Road Dee Why NSW 2099
DESCRIPTION:
UID:76060e67-07fe-4976-b473-231db45a7dc4@enlivenai.com.au
END:VEVENT
END:VCALENDAR
