BEGIN:VCALENDAR
METHOD:PUBLISH
VERSION:2.0
PRODID:-//hacksw/handcal//NONSGML v1.0//EN
BEGIN:VEVENT
DTSTAMP:20260502T101500
DTSTART:20260502T101500
DTEND:20260502T101500
SUMMARY:Auction
LOCATION:8 Knocklayde Street Ashfield NSW 2131
DESCRIPTION:
UID:6409e24b-ca69-4737-ab72-a489236a1531@enlivenai.com.au
END:VEVENT
END:VCALENDAR
