BEGIN:VCALENDAR
METHOD:PUBLISH
VERSION:2.0
PRODID:-//hacksw/handcal//NONSGML v1.0//EN
BEGIN:VEVENT
DTSTAMP:20260522T103000
DTSTART:20260522T103000
DTEND:20260522T103000
SUMMARY:Auction
LOCATION:46-48 Alice  Street Pialba QLD 4655
DESCRIPTION:
UID:b6b7a54a-e031-47da-ae60-021f48c4e47a@enlivenai.com.au
END:VEVENT
END:VCALENDAR
