BEGIN:VCALENDAR
METHOD:PUBLISH
VERSION:2.0
PRODID:-//hacksw/handcal//NONSGML v1.0//EN
BEGIN:VEVENT
DTSTAMP:20260514T180000
DTSTART:20260514T180000
DTEND:20260514T180000
SUMMARY:Auction
LOCATION:1 Trentwood Park Avalon Beach NSW 2107
DESCRIPTION:
UID:1448d20c-c136-4bf3-8295-23adc5360190@enlivenai.com.au
END:VEVENT
END:VCALENDAR
