BEGIN:VCALENDAR
METHOD:PUBLISH
VERSION:2.0
PRODID:-//hacksw/handcal//NONSGML v1.0//EN
BEGIN:VEVENT
DTSTAMP:20260513T170000
DTSTART:20260513T170000
DTEND:20260513T170000
SUMMARY:Auction
LOCATION:11/268 Alexandra Parade Alexandra Headland QLD 4572
DESCRIPTION:
UID:6419ccec-8996-4b0f-a647-6ae4d495b490@enlivenai.com.au
END:VEVENT
END:VCALENDAR
