BEGIN:VCALENDAR
METHOD:PUBLISH
VERSION:2.0
PRODID:-//hacksw/handcal//NONSGML v1.0//EN
BEGIN:VEVENT
DTSTAMP:20260516T133000
DTSTART:20260516T133000
DTEND:20260516T133000
SUMMARY:Auction
LOCATION:1 Neptune Street Dundas Valley NSW 2117
DESCRIPTION:
UID:7cb401d8-bab9-486b-808f-774f01cafa77@enlivenai.com.au
END:VEVENT
END:VCALENDAR
