BEGIN:VCALENDAR
METHOD:PUBLISH
VERSION:2.0
PRODID:-//hacksw/handcal//NONSGML v1.0//EN
BEGIN:VEVENT
DTSTAMP:20260509T120000
DTSTART:20260509T120000
DTEND:20260509T120000
SUMMARY:Auction
LOCATION:26 Mill Road Buderim QLD 4556
DESCRIPTION:
UID:92587f9e-5d1f-43ad-a3ca-6e69a4ab7950@enlivenai.com.au
END:VEVENT
END:VCALENDAR
